BEGIN:VCALENDAR
VERSION:2.0
PRODID:-//WildSide - ECPv6.15.20//NONSGML v1.0//EN
CALSCALE:GREGORIAN
METHOD:PUBLISH
X-WR-CALNAME:WildSide
X-ORIGINAL-URL:https://wildsidetn.com
X-WR-CALDESC:Events for WildSide
REFRESH-INTERVAL;VALUE=DURATION:PT1H
X-Robots-Tag:noindex
X-PUBLISHED-TTL:PT1H
BEGIN:VTIMEZONE
TZID:America/New_York
BEGIN:DAYLIGHT
TZOFFSETFROM:-0500
TZOFFSETTO:-0400
TZNAME:EDT
DTSTART:20250309T070000
END:DAYLIGHT
BEGIN:STANDARD
TZOFFSETFROM:-0400
TZOFFSETTO:-0500
TZNAME:EST
DTSTART:20251102T060000
END:STANDARD
BEGIN:DAYLIGHT
TZOFFSETFROM:-0500
TZOFFSETTO:-0400
TZNAME:EDT
DTSTART:20260308T070000
END:DAYLIGHT
BEGIN:STANDARD
TZOFFSETFROM:-0400
TZOFFSETTO:-0500
TZNAME:EST
DTSTART:20261101T060000
END:STANDARD
BEGIN:DAYLIGHT
TZOFFSETFROM:-0500
TZOFFSETTO:-0400
TZNAME:EDT
DTSTART:20270314T070000
END:DAYLIGHT
BEGIN:STANDARD
TZOFFSETFROM:-0400
TZOFFSETTO:-0500
TZNAME:EST
DTSTART:20271107T060000
END:STANDARD
END:VTIMEZONE
BEGIN:VEVENT
DTSTART;TZID=America/New_York:20260930T090000
DTEND;TZID=America/New_York:20260930T183000
DTSTAMP:20260421T200324
CREATED:20251121T211026Z
LAST-MODIFIED:20251121T211026Z
UID:10002006-1790758800-1790793000@wildsidetn.com
SUMMARY:Bike Shuttle
DESCRIPTION:
URL:https://wildsidetn.com/event/bike-shuttle-565/
CATEGORIES:Shuttle Hours
END:VEVENT
BEGIN:VEVENT
DTSTART;TZID=America/New_York:20261001T090000
DTEND;TZID=America/New_York:20261001T183000
DTSTAMP:20260421T200324
CREATED:20251121T211027Z
LAST-MODIFIED:20251121T211027Z
UID:10002007-1790845200-1790879400@wildsidetn.com
SUMMARY:Bike Shuttle
DESCRIPTION:
URL:https://wildsidetn.com/event/bike-shuttle-566/
CATEGORIES:Shuttle Hours
END:VEVENT
BEGIN:VEVENT
DTSTART;TZID=America/New_York:20261002T090000
DTEND;TZID=America/New_York:20261002T183000
DTSTAMP:20260421T200324
CREATED:20251121T212212Z
LAST-MODIFIED:20251121T212212Z
UID:10002008-1790931600-1790965800@wildsidetn.com
SUMMARY:Bike Shuttle
DESCRIPTION:
URL:https://wildsidetn.com/event/bike-shuttle-567/
CATEGORIES:Shuttle Hours
END:VEVENT
BEGIN:VEVENT
DTSTART;TZID=America/New_York:20261003T090000
DTEND;TZID=America/New_York:20261003T183000
DTSTAMP:20260421T200324
CREATED:20251121T212213Z
LAST-MODIFIED:20251121T212213Z
UID:10002009-1791018000-1791052200@wildsidetn.com
SUMMARY:Bike Shuttle
DESCRIPTION:
URL:https://wildsidetn.com/event/bike-shuttle-568/
CATEGORIES:Shuttle Hours
END:VEVENT
BEGIN:VEVENT
DTSTART;TZID=America/New_York:20261004T090000
DTEND;TZID=America/New_York:20261004T183000
DTSTAMP:20260421T200324
CREATED:20251121T212213Z
LAST-MODIFIED:20251121T212213Z
UID:10002010-1791104400-1791138600@wildsidetn.com
SUMMARY:Bike Shuttle
DESCRIPTION:
URL:https://wildsidetn.com/event/bike-shuttle-569/
CATEGORIES:Shuttle Hours
END:VEVENT
BEGIN:VEVENT
DTSTART;TZID=America/New_York:20261005T090000
DTEND;TZID=America/New_York:20261005T183000
DTSTAMP:20260421T200324
CREATED:20251121T212214Z
LAST-MODIFIED:20251121T212214Z
UID:10002011-1791190800-1791225000@wildsidetn.com
SUMMARY:Bike Shuttle
DESCRIPTION:
URL:https://wildsidetn.com/event/bike-shuttle-570/
CATEGORIES:Shuttle Hours
END:VEVENT
BEGIN:VEVENT
DTSTART;TZID=America/New_York:20261006T090000
DTEND;TZID=America/New_York:20261006T183000
DTSTAMP:20260421T200324
CREATED:20251121T212215Z
LAST-MODIFIED:20251121T212215Z
UID:10002012-1791277200-1791311400@wildsidetn.com
SUMMARY:Bike Shuttle
DESCRIPTION:
URL:https://wildsidetn.com/event/bike-shuttle-571/
CATEGORIES:Shuttle Hours
END:VEVENT
BEGIN:VEVENT
DTSTART;TZID=America/New_York:20261007T090000
DTEND;TZID=America/New_York:20261007T183000
DTSTAMP:20260421T200324
CREATED:20251121T212412Z
LAST-MODIFIED:20251121T212412Z
UID:10002013-1791363600-1791397800@wildsidetn.com
SUMMARY:Bike Shuttle
DESCRIPTION:
URL:https://wildsidetn.com/event/bike-shuttle-572/
CATEGORIES:Shuttle Hours
END:VEVENT
BEGIN:VEVENT
DTSTART;TZID=America/New_York:20261008T090000
DTEND;TZID=America/New_York:20261008T183000
DTSTAMP:20260421T200324
CREATED:20251121T212412Z
LAST-MODIFIED:20251121T212412Z
UID:10002014-1791450000-1791484200@wildsidetn.com
SUMMARY:Bike Shuttle
DESCRIPTION:
URL:https://wildsidetn.com/event/bike-shuttle-573/
CATEGORIES:Shuttle Hours
END:VEVENT
BEGIN:VEVENT
DTSTART;TZID=America/New_York:20261009T090000
DTEND;TZID=America/New_York:20261009T183000
DTSTAMP:20260421T200324
CREATED:20251121T212413Z
LAST-MODIFIED:20251121T212413Z
UID:10002015-1791536400-1791570600@wildsidetn.com
SUMMARY:Bike Shuttle
DESCRIPTION:
URL:https://wildsidetn.com/event/bike-shuttle-574/
CATEGORIES:Shuttle Hours
END:VEVENT
BEGIN:VEVENT
DTSTART;TZID=America/New_York:20261010T090000
DTEND;TZID=America/New_York:20261010T183000
DTSTAMP:20260421T200324
CREATED:20251121T212414Z
LAST-MODIFIED:20251121T212414Z
UID:10002016-1791622800-1791657000@wildsidetn.com
SUMMARY:Bike Shuttle
DESCRIPTION:
URL:https://wildsidetn.com/event/bike-shuttle-575/
CATEGORIES:Shuttle Hours
END:VEVENT
BEGIN:VEVENT
DTSTART;TZID=America/New_York:20261011T090000
DTEND;TZID=America/New_York:20261011T183000
DTSTAMP:20260421T200324
CREATED:20251121T212414Z
LAST-MODIFIED:20251121T212414Z
UID:10002017-1791709200-1791743400@wildsidetn.com
SUMMARY:Bike Shuttle
DESCRIPTION:
URL:https://wildsidetn.com/event/bike-shuttle-576/
CATEGORIES:Shuttle Hours
END:VEVENT
BEGIN:VEVENT
DTSTART;TZID=America/New_York:20261012T090000
DTEND;TZID=America/New_York:20261012T183000
DTSTAMP:20260421T200324
CREATED:20251121T212612Z
LAST-MODIFIED:20251121T212612Z
UID:10002018-1791795600-1791829800@wildsidetn.com
SUMMARY:Bike Shuttle
DESCRIPTION:
URL:https://wildsidetn.com/event/bike-shuttle-577/
CATEGORIES:Shuttle Hours
END:VEVENT
BEGIN:VEVENT
DTSTART;TZID=America/New_York:20261013T090000
DTEND;TZID=America/New_York:20261013T183000
DTSTAMP:20260421T200324
CREATED:20251121T212613Z
LAST-MODIFIED:20251121T212613Z
UID:10002019-1791882000-1791916200@wildsidetn.com
SUMMARY:Bike Shuttle
DESCRIPTION:
URL:https://wildsidetn.com/event/bike-shuttle-578/
CATEGORIES:Shuttle Hours
END:VEVENT
BEGIN:VEVENT
DTSTART;TZID=America/New_York:20261014T090000
DTEND;TZID=America/New_York:20261014T183000
DTSTAMP:20260421T200324
CREATED:20251121T212614Z
LAST-MODIFIED:20251121T212614Z
UID:10002020-1791968400-1792002600@wildsidetn.com
SUMMARY:Bike Shuttle
DESCRIPTION:
URL:https://wildsidetn.com/event/bike-shuttle-579/
CATEGORIES:Shuttle Hours
END:VEVENT
BEGIN:VEVENT
DTSTART;TZID=America/New_York:20261015T090000
DTEND;TZID=America/New_York:20261015T183000
DTSTAMP:20260421T200324
CREATED:20251121T212615Z
LAST-MODIFIED:20251121T212615Z
UID:10002021-1792054800-1792089000@wildsidetn.com
SUMMARY:Bike Shuttle
DESCRIPTION:
URL:https://wildsidetn.com/event/bike-shuttle-580/
CATEGORIES:Shuttle Hours
END:VEVENT
BEGIN:VEVENT
DTSTART;TZID=America/New_York:20261016T090000
DTEND;TZID=America/New_York:20261016T183000
DTSTAMP:20260421T200324
CREATED:20251121T212615Z
LAST-MODIFIED:20251121T212615Z
UID:10002022-1792141200-1792175400@wildsidetn.com
SUMMARY:Bike Shuttle
DESCRIPTION:
URL:https://wildsidetn.com/event/bike-shuttle-581/
CATEGORIES:Shuttle Hours
END:VEVENT
BEGIN:VEVENT
DTSTART;TZID=America/New_York:20261017T090000
DTEND;TZID=America/New_York:20261017T183000
DTSTAMP:20260421T200324
CREATED:20251121T212812Z
LAST-MODIFIED:20251121T212812Z
UID:10002023-1792227600-1792261800@wildsidetn.com
SUMMARY:Bike Shuttle
DESCRIPTION:
URL:https://wildsidetn.com/event/bike-shuttle-582/
CATEGORIES:Shuttle Hours
END:VEVENT
BEGIN:VEVENT
DTSTART;TZID=America/New_York:20261018T090000
DTEND;TZID=America/New_York:20261018T183000
DTSTAMP:20260421T200324
CREATED:20251121T212813Z
LAST-MODIFIED:20251121T212813Z
UID:10002024-1792314000-1792348200@wildsidetn.com
SUMMARY:Bike Shuttle
DESCRIPTION:
URL:https://wildsidetn.com/event/bike-shuttle-583/
CATEGORIES:Shuttle Hours
END:VEVENT
BEGIN:VEVENT
DTSTART;TZID=America/New_York:20261019T090000
DTEND;TZID=America/New_York:20261019T183000
DTSTAMP:20260421T200324
CREATED:20251121T212814Z
LAST-MODIFIED:20251121T212814Z
UID:10002025-1792400400-1792434600@wildsidetn.com
SUMMARY:Bike Shuttle
DESCRIPTION:
URL:https://wildsidetn.com/event/bike-shuttle-584/
CATEGORIES:Shuttle Hours
END:VEVENT
BEGIN:VEVENT
DTSTART;TZID=America/New_York:20261020T090000
DTEND;TZID=America/New_York:20261020T183000
DTSTAMP:20260421T200324
CREATED:20251121T212815Z
LAST-MODIFIED:20251121T212815Z
UID:10002026-1792486800-1792521000@wildsidetn.com
SUMMARY:Bike Shuttle
DESCRIPTION:
URL:https://wildsidetn.com/event/bike-shuttle-585/
CATEGORIES:Shuttle Hours
END:VEVENT
BEGIN:VEVENT
DTSTART;TZID=America/New_York:20261021T090000
DTEND;TZID=America/New_York:20261021T183000
DTSTAMP:20260421T200324
CREATED:20251121T212816Z
LAST-MODIFIED:20251121T212816Z
UID:10002027-1792573200-1792607400@wildsidetn.com
SUMMARY:Bike Shuttle
DESCRIPTION:
URL:https://wildsidetn.com/event/bike-shuttle-586/
CATEGORIES:Shuttle Hours
END:VEVENT
BEGIN:VEVENT
DTSTART;TZID=America/New_York:20261022T090000
DTEND;TZID=America/New_York:20261022T183000
DTSTAMP:20260421T200324
CREATED:20251121T213013Z
LAST-MODIFIED:20251121T213013Z
UID:10002028-1792659600-1792693800@wildsidetn.com
SUMMARY:Bike Shuttle
DESCRIPTION:
URL:https://wildsidetn.com/event/bike-shuttle-587/
CATEGORIES:Shuttle Hours
END:VEVENT
BEGIN:VEVENT
DTSTART;TZID=America/New_York:20261023T090000
DTEND;TZID=America/New_York:20261023T183000
DTSTAMP:20260421T200324
CREATED:20251121T213014Z
LAST-MODIFIED:20251121T213014Z
UID:10002029-1792746000-1792780200@wildsidetn.com
SUMMARY:Bike Shuttle
DESCRIPTION:
URL:https://wildsidetn.com/event/bike-shuttle-588/
CATEGORIES:Shuttle Hours
END:VEVENT
BEGIN:VEVENT
DTSTART;TZID=America/New_York:20261024T090000
DTEND;TZID=America/New_York:20261024T183000
DTSTAMP:20260421T200324
CREATED:20251121T213015Z
LAST-MODIFIED:20251121T213015Z
UID:10002030-1792832400-1792866600@wildsidetn.com
SUMMARY:Bike Shuttle
DESCRIPTION:
URL:https://wildsidetn.com/event/bike-shuttle-589/
CATEGORIES:Shuttle Hours
END:VEVENT
BEGIN:VEVENT
DTSTART;TZID=America/New_York:20261025T090000
DTEND;TZID=America/New_York:20261025T183000
DTSTAMP:20260421T200324
CREATED:20251121T213016Z
LAST-MODIFIED:20251121T213016Z
UID:10002031-1792918800-1792953000@wildsidetn.com
SUMMARY:Bike Shuttle
DESCRIPTION:
URL:https://wildsidetn.com/event/bike-shuttle-590/
CATEGORIES:Shuttle Hours
END:VEVENT
BEGIN:VEVENT
DTSTART;TZID=America/New_York:20261026T090000
DTEND;TZID=America/New_York:20261026T183000
DTSTAMP:20260421T200324
CREATED:20251121T213017Z
LAST-MODIFIED:20251121T213017Z
UID:10002032-1793005200-1793039400@wildsidetn.com
SUMMARY:Bike Shuttle
DESCRIPTION:
URL:https://wildsidetn.com/event/bike-shuttle-591/
CATEGORIES:Shuttle Hours
END:VEVENT
BEGIN:VEVENT
DTSTART;TZID=America/New_York:20261027T090000
DTEND;TZID=America/New_York:20261027T183000
DTSTAMP:20260421T200324
CREATED:20251121T213211Z
LAST-MODIFIED:20251121T213211Z
UID:10002033-1793091600-1793125800@wildsidetn.com
SUMMARY:Bike Shuttle
DESCRIPTION:
URL:https://wildsidetn.com/event/bike-shuttle-592/
CATEGORIES:Shuttle Hours
END:VEVENT
BEGIN:VEVENT
DTSTART;TZID=America/New_York:20261028T090000
DTEND;TZID=America/New_York:20261028T183000
DTSTAMP:20260421T200324
CREATED:20251121T213212Z
LAST-MODIFIED:20251121T213212Z
UID:10002034-1793178000-1793212200@wildsidetn.com
SUMMARY:Bike Shuttle
DESCRIPTION:
URL:https://wildsidetn.com/event/bike-shuttle-593/
CATEGORIES:Shuttle Hours
END:VEVENT
BEGIN:VEVENT
DTSTART;TZID=America/New_York:20261029T090000
DTEND;TZID=America/New_York:20261029T183000
DTSTAMP:20260421T200324
CREATED:20251121T213213Z
LAST-MODIFIED:20251121T213213Z
UID:10002035-1793264400-1793298600@wildsidetn.com
SUMMARY:Bike Shuttle
DESCRIPTION:
URL:https://wildsidetn.com/event/bike-shuttle-594/
CATEGORIES:Shuttle Hours
END:VEVENT
END:VCALENDAR