BEGIN:VCALENDAR
VERSION:2.0
PRODID:-//WildSide - ECPv6.15.20//NONSGML v1.0//EN
CALSCALE:GREGORIAN
METHOD:PUBLISH
X-WR-CALNAME:WildSide
X-ORIGINAL-URL:https://wildsidetn.com
X-WR-CALDESC:Events for WildSide
REFRESH-INTERVAL;VALUE=DURATION:PT1H
X-Robots-Tag:noindex
X-PUBLISHED-TTL:PT1H
BEGIN:VTIMEZONE
TZID:America/New_York
BEGIN:DAYLIGHT
TZOFFSETFROM:-0500
TZOFFSETTO:-0400
TZNAME:EDT
DTSTART:20250309T070000
END:DAYLIGHT
BEGIN:STANDARD
TZOFFSETFROM:-0400
TZOFFSETTO:-0500
TZNAME:EST
DTSTART:20251102T060000
END:STANDARD
BEGIN:DAYLIGHT
TZOFFSETFROM:-0500
TZOFFSETTO:-0400
TZNAME:EDT
DTSTART:20260308T070000
END:DAYLIGHT
BEGIN:STANDARD
TZOFFSETFROM:-0400
TZOFFSETTO:-0500
TZNAME:EST
DTSTART:20261101T060000
END:STANDARD
BEGIN:DAYLIGHT
TZOFFSETFROM:-0500
TZOFFSETTO:-0400
TZNAME:EDT
DTSTART:20270314T070000
END:DAYLIGHT
BEGIN:STANDARD
TZOFFSETFROM:-0400
TZOFFSETTO:-0500
TZNAME:EST
DTSTART:20271107T060000
END:STANDARD
END:VTIMEZONE
BEGIN:VEVENT
DTSTART;TZID=America/New_York:20260618T090000
DTEND;TZID=America/New_York:20260618T183000
DTSTAMP:20260421T132811
CREATED:20251121T202212Z
LAST-MODIFIED:20251121T202212Z
UID:10001902-1781773200-1781807400@wildsidetn.com
SUMMARY:Bike Shuttle
DESCRIPTION:
URL:https://wildsidetn.com/event/bike-shuttle-461/
CATEGORIES:Shuttle Hours
END:VEVENT
BEGIN:VEVENT
DTSTART;TZID=America/New_York:20260619T090000
DTEND;TZID=America/New_York:20260619T183000
DTSTAMP:20260421T132811
CREATED:20251121T202409Z
LAST-MODIFIED:20251121T202409Z
UID:10001903-1781859600-1781893800@wildsidetn.com
SUMMARY:Bike Shuttle
DESCRIPTION:
URL:https://wildsidetn.com/event/bike-shuttle-462/
CATEGORIES:Shuttle Hours
END:VEVENT
BEGIN:VEVENT
DTSTART;TZID=America/New_York:20260620T090000
DTEND;TZID=America/New_York:20260620T183000
DTSTAMP:20260421T132811
CREATED:20251121T202409Z
LAST-MODIFIED:20251121T202409Z
UID:10001904-1781946000-1781980200@wildsidetn.com
SUMMARY:Bike Shuttle
DESCRIPTION:
URL:https://wildsidetn.com/event/bike-shuttle-463/
CATEGORIES:Shuttle Hours
END:VEVENT
BEGIN:VEVENT
DTSTART;TZID=America/New_York:20260621T090000
DTEND;TZID=America/New_York:20260621T183000
DTSTAMP:20260421T132811
CREATED:20251121T202410Z
LAST-MODIFIED:20251121T202410Z
UID:10001905-1782032400-1782066600@wildsidetn.com
SUMMARY:Bike Shuttle
DESCRIPTION:
URL:https://wildsidetn.com/event/bike-shuttle-464/
CATEGORIES:Shuttle Hours
END:VEVENT
BEGIN:VEVENT
DTSTART;TZID=America/New_York:20260622T090000
DTEND;TZID=America/New_York:20260622T183000
DTSTAMP:20260421T132811
CREATED:20251121T202410Z
LAST-MODIFIED:20251121T202410Z
UID:10001906-1782118800-1782153000@wildsidetn.com
SUMMARY:Bike Shuttle
DESCRIPTION:
URL:https://wildsidetn.com/event/bike-shuttle-465/
CATEGORIES:Shuttle Hours
END:VEVENT
BEGIN:VEVENT
DTSTART;TZID=America/New_York:20260623T090000
DTEND;TZID=America/New_York:20260623T183000
DTSTAMP:20260421T132811
CREATED:20251121T202411Z
LAST-MODIFIED:20251121T202411Z
UID:10001907-1782205200-1782239400@wildsidetn.com
SUMMARY:Bike Shuttle
DESCRIPTION:
URL:https://wildsidetn.com/event/bike-shuttle-466/
CATEGORIES:Shuttle Hours
END:VEVENT
BEGIN:VEVENT
DTSTART;TZID=America/New_York:20260624T090000
DTEND;TZID=America/New_York:20260624T183000
DTSTAMP:20260421T132811
CREATED:20251121T202609Z
LAST-MODIFIED:20251121T202609Z
UID:10001908-1782291600-1782325800@wildsidetn.com
SUMMARY:Bike Shuttle
DESCRIPTION:
URL:https://wildsidetn.com/event/bike-shuttle-467/
CATEGORIES:Shuttle Hours
END:VEVENT
BEGIN:VEVENT
DTSTART;TZID=America/New_York:20260625T090000
DTEND;TZID=America/New_York:20260625T183000
DTSTAMP:20260421T132811
CREATED:20251121T202610Z
LAST-MODIFIED:20251121T202610Z
UID:10001909-1782378000-1782412200@wildsidetn.com
SUMMARY:Bike Shuttle
DESCRIPTION:
URL:https://wildsidetn.com/event/bike-shuttle-468/
CATEGORIES:Shuttle Hours
END:VEVENT
BEGIN:VEVENT
DTSTART;TZID=America/New_York:20260626T090000
DTEND;TZID=America/New_York:20260626T183000
DTSTAMP:20260421T132811
CREATED:20251121T202610Z
LAST-MODIFIED:20251121T202610Z
UID:10001910-1782464400-1782498600@wildsidetn.com
SUMMARY:Bike Shuttle
DESCRIPTION:
URL:https://wildsidetn.com/event/bike-shuttle-469/
CATEGORIES:Shuttle Hours
END:VEVENT
BEGIN:VEVENT
DTSTART;TZID=America/New_York:20260627T090000
DTEND;TZID=America/New_York:20260627T183000
DTSTAMP:20260421T132811
CREATED:20251121T202611Z
LAST-MODIFIED:20251121T202611Z
UID:10001911-1782550800-1782585000@wildsidetn.com
SUMMARY:Bike Shuttle
DESCRIPTION:
URL:https://wildsidetn.com/event/bike-shuttle-470/
CATEGORIES:Shuttle Hours
END:VEVENT
BEGIN:VEVENT
DTSTART;TZID=America/New_York:20260628T090000
DTEND;TZID=America/New_York:20260628T183000
DTSTAMP:20260421T132811
CREATED:20251121T202612Z
LAST-MODIFIED:20251121T202612Z
UID:10001912-1782637200-1782671400@wildsidetn.com
SUMMARY:Bike Shuttle
DESCRIPTION:
URL:https://wildsidetn.com/event/bike-shuttle-471/
CATEGORIES:Shuttle Hours
END:VEVENT
BEGIN:VEVENT
DTSTART;TZID=America/New_York:20260629T090000
DTEND;TZID=America/New_York:20260629T183000
DTSTAMP:20260421T132811
CREATED:20251121T202810Z
LAST-MODIFIED:20251121T202810Z
UID:10001913-1782723600-1782757800@wildsidetn.com
SUMMARY:Bike Shuttle
DESCRIPTION:
URL:https://wildsidetn.com/event/bike-shuttle-472/
CATEGORIES:Shuttle Hours
END:VEVENT
BEGIN:VEVENT
DTSTART;TZID=America/New_York:20260630T090000
DTEND;TZID=America/New_York:20260630T183000
DTSTAMP:20260421T132811
CREATED:20251121T202811Z
LAST-MODIFIED:20251121T202811Z
UID:10001914-1782810000-1782844200@wildsidetn.com
SUMMARY:Bike Shuttle
DESCRIPTION:
URL:https://wildsidetn.com/event/bike-shuttle-473/
CATEGORIES:Shuttle Hours
END:VEVENT
BEGIN:VEVENT
DTSTART;TZID=America/New_York:20260701T090000
DTEND;TZID=America/New_York:20260701T183000
DTSTAMP:20260421T132811
CREATED:20251121T202811Z
LAST-MODIFIED:20251121T202811Z
UID:10001915-1782896400-1782930600@wildsidetn.com
SUMMARY:Bike Shuttle
DESCRIPTION:
URL:https://wildsidetn.com/event/bike-shuttle-474/
CATEGORIES:Shuttle Hours
END:VEVENT
BEGIN:VEVENT
DTSTART;TZID=America/New_York:20260702T090000
DTEND;TZID=America/New_York:20260702T183000
DTSTAMP:20260421T132811
CREATED:20251121T202812Z
LAST-MODIFIED:20251121T202812Z
UID:10001916-1782982800-1783017000@wildsidetn.com
SUMMARY:Bike Shuttle
DESCRIPTION:
URL:https://wildsidetn.com/event/bike-shuttle-475/
CATEGORIES:Shuttle Hours
END:VEVENT
BEGIN:VEVENT
DTSTART;TZID=America/New_York:20260703T090000
DTEND;TZID=America/New_York:20260703T183000
DTSTAMP:20260421T132812
CREATED:20251121T202813Z
LAST-MODIFIED:20251121T202813Z
UID:10001917-1783069200-1783103400@wildsidetn.com
SUMMARY:Bike Shuttle
DESCRIPTION:
URL:https://wildsidetn.com/event/bike-shuttle-476/
CATEGORIES:Shuttle Hours
END:VEVENT
BEGIN:VEVENT
DTSTART;TZID=America/New_York:20260704T090000
DTEND;TZID=America/New_York:20260704T183000
DTSTAMP:20260421T132812
CREATED:20251121T203011Z
LAST-MODIFIED:20251121T203011Z
UID:10001918-1783155600-1783189800@wildsidetn.com
SUMMARY:Bike Shuttle
DESCRIPTION:
URL:https://wildsidetn.com/event/bike-shuttle-477/
CATEGORIES:Shuttle Hours
END:VEVENT
BEGIN:VEVENT
DTSTART;TZID=America/New_York:20260705T090000
DTEND;TZID=America/New_York:20260705T183000
DTSTAMP:20260421T132812
CREATED:20251121T203012Z
LAST-MODIFIED:20251121T203012Z
UID:10001919-1783242000-1783276200@wildsidetn.com
SUMMARY:Bike Shuttle
DESCRIPTION:
URL:https://wildsidetn.com/event/bike-shuttle-478/
CATEGORIES:Shuttle Hours
END:VEVENT
BEGIN:VEVENT
DTSTART;TZID=America/New_York:20260706T090000
DTEND;TZID=America/New_York:20260706T183000
DTSTAMP:20260421T132812
CREATED:20251121T203012Z
LAST-MODIFIED:20251121T203012Z
UID:10001920-1783328400-1783362600@wildsidetn.com
SUMMARY:Bike Shuttle
DESCRIPTION:
URL:https://wildsidetn.com/event/bike-shuttle-479/
CATEGORIES:Shuttle Hours
END:VEVENT
BEGIN:VEVENT
DTSTART;TZID=America/New_York:20260707T090000
DTEND;TZID=America/New_York:20260707T183000
DTSTAMP:20260421T132812
CREATED:20251121T203014Z
LAST-MODIFIED:20251121T203014Z
UID:10001921-1783414800-1783449000@wildsidetn.com
SUMMARY:Bike Shuttle
DESCRIPTION:
URL:https://wildsidetn.com/event/bike-shuttle-480/
CATEGORIES:Shuttle Hours
END:VEVENT
BEGIN:VEVENT
DTSTART;TZID=America/New_York:20260708T090000
DTEND;TZID=America/New_York:20260708T183000
DTSTAMP:20260421T132812
CREATED:20251121T203014Z
LAST-MODIFIED:20251121T203014Z
UID:10001922-1783501200-1783535400@wildsidetn.com
SUMMARY:Bike Shuttle
DESCRIPTION:
URL:https://wildsidetn.com/event/bike-shuttle-481/
CATEGORIES:Shuttle Hours
END:VEVENT
BEGIN:VEVENT
DTSTART;TZID=America/New_York:20260709T090000
DTEND;TZID=America/New_York:20260709T183000
DTSTAMP:20260421T132812
CREATED:20251121T203212Z
LAST-MODIFIED:20251121T203212Z
UID:10001923-1783587600-1783621800@wildsidetn.com
SUMMARY:Bike Shuttle
DESCRIPTION:
URL:https://wildsidetn.com/event/bike-shuttle-482/
CATEGORIES:Shuttle Hours
END:VEVENT
BEGIN:VEVENT
DTSTART;TZID=America/New_York:20260710T090000
DTEND;TZID=America/New_York:20260710T183000
DTSTAMP:20260421T132812
CREATED:20251121T203213Z
LAST-MODIFIED:20251121T203213Z
UID:10001924-1783674000-1783708200@wildsidetn.com
SUMMARY:Bike Shuttle
DESCRIPTION:
URL:https://wildsidetn.com/event/bike-shuttle-483/
CATEGORIES:Shuttle Hours
END:VEVENT
BEGIN:VEVENT
DTSTART;TZID=America/New_York:20260711T090000
DTEND;TZID=America/New_York:20260711T183000
DTSTAMP:20260421T132812
CREATED:20251121T203214Z
LAST-MODIFIED:20251121T203214Z
UID:10001925-1783760400-1783794600@wildsidetn.com
SUMMARY:Bike Shuttle
DESCRIPTION:
URL:https://wildsidetn.com/event/bike-shuttle-484/
CATEGORIES:Shuttle Hours
END:VEVENT
BEGIN:VEVENT
DTSTART;TZID=America/New_York:20260712T090000
DTEND;TZID=America/New_York:20260712T183000
DTSTAMP:20260421T132812
CREATED:20251121T203215Z
LAST-MODIFIED:20251121T203215Z
UID:10001926-1783846800-1783881000@wildsidetn.com
SUMMARY:Bike Shuttle
DESCRIPTION:
URL:https://wildsidetn.com/event/bike-shuttle-485/
CATEGORIES:Shuttle Hours
END:VEVENT
BEGIN:VEVENT
DTSTART;TZID=America/New_York:20260713T090000
DTEND;TZID=America/New_York:20260713T183000
DTSTAMP:20260421T132812
CREATED:20251121T203216Z
LAST-MODIFIED:20251121T203216Z
UID:10001927-1783933200-1783967400@wildsidetn.com
SUMMARY:Bike Shuttle
DESCRIPTION:
URL:https://wildsidetn.com/event/bike-shuttle-486/
CATEGORIES:Shuttle Hours
END:VEVENT
BEGIN:VEVENT
DTSTART;TZID=America/New_York:20260714T090000
DTEND;TZID=America/New_York:20260714T183000
DTSTAMP:20260421T132812
CREATED:20251121T203412Z
LAST-MODIFIED:20251121T203412Z
UID:10001928-1784019600-1784053800@wildsidetn.com
SUMMARY:Bike Shuttle
DESCRIPTION:
URL:https://wildsidetn.com/event/bike-shuttle-487/
CATEGORIES:Shuttle Hours
END:VEVENT
BEGIN:VEVENT
DTSTART;TZID=America/New_York:20260715T090000
DTEND;TZID=America/New_York:20260715T183000
DTSTAMP:20260421T132812
CREATED:20251121T203413Z
LAST-MODIFIED:20251121T203413Z
UID:10001929-1784106000-1784140200@wildsidetn.com
SUMMARY:Bike Shuttle
DESCRIPTION:
URL:https://wildsidetn.com/event/bike-shuttle-488/
CATEGORIES:Shuttle Hours
END:VEVENT
BEGIN:VEVENT
DTSTART;TZID=America/New_York:20260716T090000
DTEND;TZID=America/New_York:20260716T183000
DTSTAMP:20260421T132812
CREATED:20251121T203414Z
LAST-MODIFIED:20251121T203414Z
UID:10001930-1784192400-1784226600@wildsidetn.com
SUMMARY:Bike Shuttle
DESCRIPTION:
URL:https://wildsidetn.com/event/bike-shuttle-489/
CATEGORIES:Shuttle Hours
END:VEVENT
BEGIN:VEVENT
DTSTART;TZID=America/New_York:20260717T090000
DTEND;TZID=America/New_York:20260717T183000
DTSTAMP:20260421T132812
CREATED:20251121T203415Z
LAST-MODIFIED:20251121T203415Z
UID:10001931-1784278800-1784313000@wildsidetn.com
SUMMARY:Bike Shuttle
DESCRIPTION:
URL:https://wildsidetn.com/event/bike-shuttle-490/
CATEGORIES:Shuttle Hours
END:VEVENT
END:VCALENDAR