BEGIN:VCALENDAR
VERSION:2.0
PRODID:-//WildSide - ECPv6.15.20//NONSGML v1.0//EN
CALSCALE:GREGORIAN
METHOD:PUBLISH
X-ORIGINAL-URL:https://wildsidetn.com
X-WR-CALDESC:Events for WildSide
REFRESH-INTERVAL;VALUE=DURATION:PT1H
X-Robots-Tag:noindex
X-PUBLISHED-TTL:PT1H
BEGIN:VTIMEZONE
TZID:America/New_York
BEGIN:DAYLIGHT
TZOFFSETFROM:-0500
TZOFFSETTO:-0400
TZNAME:EDT
DTSTART:20250309T070000
END:DAYLIGHT
BEGIN:STANDARD
TZOFFSETFROM:-0400
TZOFFSETTO:-0500
TZNAME:EST
DTSTART:20251102T060000
END:STANDARD
BEGIN:DAYLIGHT
TZOFFSETFROM:-0500
TZOFFSETTO:-0400
TZNAME:EDT
DTSTART:20260308T070000
END:DAYLIGHT
BEGIN:STANDARD
TZOFFSETFROM:-0400
TZOFFSETTO:-0500
TZNAME:EST
DTSTART:20261101T060000
END:STANDARD
BEGIN:DAYLIGHT
TZOFFSETFROM:-0500
TZOFFSETTO:-0400
TZNAME:EDT
DTSTART:20270314T070000
END:DAYLIGHT
BEGIN:STANDARD
TZOFFSETFROM:-0400
TZOFFSETTO:-0500
TZNAME:EST
DTSTART:20271107T060000
END:STANDARD
END:VTIMEZONE
BEGIN:VEVENT
DTSTART;TZID=America/New_York:20261125T090000
DTEND;TZID=America/New_York:20261125T163000
DTSTAMP:20260421T200017
CREATED:20251121T214220Z
LAST-MODIFIED:20251121T214220Z
UID:10002062-1795597200-1795624200@wildsidetn.com
SUMMARY:Bike Shuttle
DESCRIPTION:
URL:https://wildsidetn.com/event/bike-shuttle-621/
CATEGORIES:Shuttle Hours
END:VEVENT
BEGIN:VEVENT
DTSTART;TZID=America/New_York:20261127T090000
DTEND;TZID=America/New_York:20261127T163000
DTSTAMP:20260421T200017
CREATED:20251121T214415Z
LAST-MODIFIED:20251121T214415Z
UID:10002063-1795770000-1795797000@wildsidetn.com
SUMMARY:Bike Shuttle
DESCRIPTION:
URL:https://wildsidetn.com/event/bike-shuttle-622/
CATEGORIES:Shuttle Hours
END:VEVENT
BEGIN:VEVENT
DTSTART;TZID=America/New_York:20261128T090000
DTEND;TZID=America/New_York:20261128T163000
DTSTAMP:20260421T200017
CREATED:20251121T214416Z
LAST-MODIFIED:20251121T214416Z
UID:10002064-1795856400-1795883400@wildsidetn.com
SUMMARY:Bike Shuttle
DESCRIPTION:
URL:https://wildsidetn.com/event/bike-shuttle-623/
CATEGORIES:Shuttle Hours
END:VEVENT
BEGIN:VEVENT
DTSTART;TZID=America/New_York:20261129T090000
DTEND;TZID=America/New_York:20261129T163000
DTSTAMP:20260421T200017
CREATED:20251121T214418Z
LAST-MODIFIED:20251121T214418Z
UID:10002065-1795942800-1795969800@wildsidetn.com
SUMMARY:Bike Shuttle
DESCRIPTION:
URL:https://wildsidetn.com/event/bike-shuttle-624/
CATEGORIES:Shuttle Hours
END:VEVENT
BEGIN:VEVENT
DTSTART;TZID=America/New_York:20261130T090000
DTEND;TZID=America/New_York:20261130T163000
DTSTAMP:20260421T200017
CREATED:20251121T214420Z
LAST-MODIFIED:20251121T214420Z
UID:10002066-1796029200-1796056200@wildsidetn.com
SUMMARY:Bike Shuttle
DESCRIPTION:
URL:https://wildsidetn.com/event/bike-shuttle-625/
CATEGORIES:Shuttle Hours
END:VEVENT
BEGIN:VEVENT
DTSTART;TZID=America/New_York:20261201T090000
DTEND;TZID=America/New_York:20261201T163000
DTSTAMP:20260421T200017
CREATED:20251121T214422Z
LAST-MODIFIED:20251121T214422Z
UID:10002067-1796115600-1796142600@wildsidetn.com
SUMMARY:Bike Shuttle
DESCRIPTION:
URL:https://wildsidetn.com/event/bike-shuttle-626/
CATEGORIES:Shuttle Hours
END:VEVENT
BEGIN:VEVENT
DTSTART;TZID=America/New_York:20261202T090000
DTEND;TZID=America/New_York:20261202T163000
DTSTAMP:20260421T200017
CREATED:20251121T214616Z
LAST-MODIFIED:20251121T214616Z
UID:10002068-1796202000-1796229000@wildsidetn.com
SUMMARY:Bike Shuttle
DESCRIPTION:
URL:https://wildsidetn.com/event/bike-shuttle-627/
CATEGORIES:Shuttle Hours
END:VEVENT
BEGIN:VEVENT
DTSTART;TZID=America/New_York:20261203T090000
DTEND;TZID=America/New_York:20261203T163000
DTSTAMP:20260421T200017
CREATED:20251121T214618Z
LAST-MODIFIED:20251121T214618Z
UID:10002069-1796288400-1796315400@wildsidetn.com
SUMMARY:Bike Shuttle
DESCRIPTION:
URL:https://wildsidetn.com/event/bike-shuttle-628/
CATEGORIES:Shuttle Hours
END:VEVENT
BEGIN:VEVENT
DTSTART;TZID=America/New_York:20261204T090000
DTEND;TZID=America/New_York:20261204T163000
DTSTAMP:20260421T200017
CREATED:20251121T214620Z
LAST-MODIFIED:20251121T214620Z
UID:10002070-1796374800-1796401800@wildsidetn.com
SUMMARY:Bike Shuttle
DESCRIPTION:
URL:https://wildsidetn.com/event/bike-shuttle-629/
CATEGORIES:Shuttle Hours
END:VEVENT
BEGIN:VEVENT
DTSTART;TZID=America/New_York:20261205T090000
DTEND;TZID=America/New_York:20261205T163000
DTSTAMP:20260421T200017
CREATED:20251121T214621Z
LAST-MODIFIED:20251121T214621Z
UID:10002071-1796461200-1796488200@wildsidetn.com
SUMMARY:Bike Shuttle
DESCRIPTION:
URL:https://wildsidetn.com/event/bike-shuttle-630/
CATEGORIES:Shuttle Hours
END:VEVENT
BEGIN:VEVENT
DTSTART;TZID=America/New_York:20261206T090000
DTEND;TZID=America/New_York:20261206T163000
DTSTAMP:20260421T200017
CREATED:20251121T214623Z
LAST-MODIFIED:20251121T214623Z
UID:10002072-1796547600-1796574600@wildsidetn.com
SUMMARY:Bike Shuttle
DESCRIPTION:
URL:https://wildsidetn.com/event/bike-shuttle-631/
CATEGORIES:Shuttle Hours
END:VEVENT
BEGIN:VEVENT
DTSTART;TZID=America/New_York:20261207T090000
DTEND;TZID=America/New_York:20261207T163000
DTSTAMP:20260421T200017
CREATED:20251121T214815Z
LAST-MODIFIED:20251121T214815Z
UID:10002073-1796634000-1796661000@wildsidetn.com
SUMMARY:Bike Shuttle
DESCRIPTION:
URL:https://wildsidetn.com/event/bike-shuttle-632/
CATEGORIES:Shuttle Hours
END:VEVENT
BEGIN:VEVENT
DTSTART;TZID=America/New_York:20261208T090000
DTEND;TZID=America/New_York:20261208T163000
DTSTAMP:20260421T200017
CREATED:20251121T214816Z
LAST-MODIFIED:20251121T214816Z
UID:10002074-1796720400-1796747400@wildsidetn.com
SUMMARY:Bike Shuttle
DESCRIPTION:
URL:https://wildsidetn.com/event/bike-shuttle-633/
CATEGORIES:Shuttle Hours
END:VEVENT
BEGIN:VEVENT
DTSTART;TZID=America/New_York:20261209T090000
DTEND;TZID=America/New_York:20261209T163000
DTSTAMP:20260421T200017
CREATED:20251121T214818Z
LAST-MODIFIED:20251121T214818Z
UID:10002075-1796806800-1796833800@wildsidetn.com
SUMMARY:Bike Shuttle
DESCRIPTION:
URL:https://wildsidetn.com/event/bike-shuttle-634/
CATEGORIES:Shuttle Hours
END:VEVENT
BEGIN:VEVENT
DTSTART;TZID=America/New_York:20261210T090000
DTEND;TZID=America/New_York:20261210T163000
DTSTAMP:20260421T200017
CREATED:20251121T214820Z
LAST-MODIFIED:20251121T214820Z
UID:10002076-1796893200-1796920200@wildsidetn.com
SUMMARY:Bike Shuttle
DESCRIPTION:
URL:https://wildsidetn.com/event/bike-shuttle-635/
CATEGORIES:Shuttle Hours
END:VEVENT
BEGIN:VEVENT
DTSTART;TZID=America/New_York:20261211T090000
DTEND;TZID=America/New_York:20261211T163000
DTSTAMP:20260421T200017
CREATED:20251121T214822Z
LAST-MODIFIED:20251121T214822Z
UID:10002077-1796979600-1797006600@wildsidetn.com
SUMMARY:Bike Shuttle
DESCRIPTION:
URL:https://wildsidetn.com/event/bike-shuttle-636/
CATEGORIES:Shuttle Hours
END:VEVENT
BEGIN:VEVENT
DTSTART;TZID=America/New_York:20261212T090000
DTEND;TZID=America/New_York:20261212T163000
DTSTAMP:20260421T200017
CREATED:20251121T215015Z
LAST-MODIFIED:20251121T215015Z
UID:10002078-1797066000-1797093000@wildsidetn.com
SUMMARY:Bike Shuttle
DESCRIPTION:
URL:https://wildsidetn.com/event/bike-shuttle-637/
CATEGORIES:Shuttle Hours
END:VEVENT
BEGIN:VEVENT
DTSTART;TZID=America/New_York:20261213T090000
DTEND;TZID=America/New_York:20261213T163000
DTSTAMP:20260421T200017
CREATED:20251121T215018Z
LAST-MODIFIED:20251121T215018Z
UID:10002079-1797152400-1797179400@wildsidetn.com
SUMMARY:Bike Shuttle
DESCRIPTION:
URL:https://wildsidetn.com/event/bike-shuttle-638/
CATEGORIES:Shuttle Hours
END:VEVENT
BEGIN:VEVENT
DTSTART;TZID=America/New_York:20261214T090000
DTEND;TZID=America/New_York:20261214T163000
DTSTAMP:20260421T200017
CREATED:20251121T215021Z
LAST-MODIFIED:20251121T215021Z
UID:10002080-1797238800-1797265800@wildsidetn.com
SUMMARY:Bike Shuttle
DESCRIPTION:
URL:https://wildsidetn.com/event/bike-shuttle-639/
CATEGORIES:Shuttle Hours
END:VEVENT
BEGIN:VEVENT
DTSTART;TZID=America/New_York:20261215T090000
DTEND;TZID=America/New_York:20261215T163000
DTSTAMP:20260421T200017
CREATED:20251121T215024Z
LAST-MODIFIED:20251121T215024Z
UID:10002081-1797325200-1797352200@wildsidetn.com
SUMMARY:Bike Shuttle
DESCRIPTION:
URL:https://wildsidetn.com/event/bike-shuttle-640/
CATEGORIES:Shuttle Hours
END:VEVENT
BEGIN:VEVENT
DTSTART;TZID=America/New_York:20261216T090000
DTEND;TZID=America/New_York:20261216T163000
DTSTAMP:20260421T200017
CREATED:20251121T215026Z
LAST-MODIFIED:20251121T215026Z
UID:10002082-1797411600-1797438600@wildsidetn.com
SUMMARY:Bike Shuttle
DESCRIPTION:
URL:https://wildsidetn.com/event/bike-shuttle-641/
CATEGORIES:Shuttle Hours
END:VEVENT
BEGIN:VEVENT
DTSTART;TZID=America/New_York:20261217T090000
DTEND;TZID=America/New_York:20261217T163000
DTSTAMP:20260421T200017
CREATED:20251121T215215Z
LAST-MODIFIED:20251121T215215Z
UID:10002083-1797498000-1797525000@wildsidetn.com
SUMMARY:Bike Shuttle
DESCRIPTION:
URL:https://wildsidetn.com/event/bike-shuttle-642/
CATEGORIES:Shuttle Hours
END:VEVENT
BEGIN:VEVENT
DTSTART;TZID=America/New_York:20261218T090000
DTEND;TZID=America/New_York:20261218T163000
DTSTAMP:20260421T200017
CREATED:20251121T215218Z
LAST-MODIFIED:20251121T215218Z
UID:10002084-1797584400-1797611400@wildsidetn.com
SUMMARY:Bike Shuttle
DESCRIPTION:
URL:https://wildsidetn.com/event/bike-shuttle-643/
CATEGORIES:Shuttle Hours
END:VEVENT
BEGIN:VEVENT
DTSTART;TZID=America/New_York:20261219T090000
DTEND;TZID=America/New_York:20261219T163000
DTSTAMP:20260421T200017
CREATED:20251121T215220Z
LAST-MODIFIED:20251121T215220Z
UID:10002085-1797670800-1797697800@wildsidetn.com
SUMMARY:Bike Shuttle
DESCRIPTION:
URL:https://wildsidetn.com/event/bike-shuttle-644/
CATEGORIES:Shuttle Hours
END:VEVENT
BEGIN:VEVENT
DTSTART;TZID=America/New_York:20261220T090000
DTEND;TZID=America/New_York:20261220T163000
DTSTAMP:20260421T200017
CREATED:20251121T215223Z
LAST-MODIFIED:20251121T215223Z
UID:10002086-1797757200-1797784200@wildsidetn.com
SUMMARY:Bike Shuttle
DESCRIPTION:
URL:https://wildsidetn.com/event/bike-shuttle-645/
CATEGORIES:Shuttle Hours
END:VEVENT
BEGIN:VEVENT
DTSTART;TZID=America/New_York:20261221T090000
DTEND;TZID=America/New_York:20261221T163000
DTSTAMP:20260421T200017
CREATED:20251121T215225Z
LAST-MODIFIED:20251121T215225Z
UID:10002087-1797843600-1797870600@wildsidetn.com
SUMMARY:Bike Shuttle
DESCRIPTION:
URL:https://wildsidetn.com/event/bike-shuttle-646/
CATEGORIES:Shuttle Hours
END:VEVENT
BEGIN:VEVENT
DTSTART;TZID=America/New_York:20261222T090000
DTEND;TZID=America/New_York:20261222T163000
DTSTAMP:20260421T200017
CREATED:20251121T215415Z
LAST-MODIFIED:20251121T215415Z
UID:10002088-1797930000-1797957000@wildsidetn.com
SUMMARY:Bike Shuttle
DESCRIPTION:
URL:https://wildsidetn.com/event/bike-shuttle-647/
CATEGORIES:Shuttle Hours
END:VEVENT
BEGIN:VEVENT
DTSTART;TZID=America/New_York:20261223T090000
DTEND;TZID=America/New_York:20261223T163000
DTSTAMP:20260421T200017
CREATED:20251121T215416Z
LAST-MODIFIED:20251121T215416Z
UID:10002089-1798016400-1798043400@wildsidetn.com
SUMMARY:Bike Shuttle
DESCRIPTION:
URL:https://wildsidetn.com/event/bike-shuttle-648/
CATEGORIES:Shuttle Hours
END:VEVENT
BEGIN:VEVENT
DTSTART;TZID=America/New_York:20261224T090000
DTEND;TZID=America/New_York:20261224T163000
DTSTAMP:20260421T200017
CREATED:20251121T215417Z
LAST-MODIFIED:20251121T215417Z
UID:10002090-1798102800-1798129800@wildsidetn.com
SUMMARY:Bike Shuttle
DESCRIPTION:
URL:https://wildsidetn.com/event/bike-shuttle-649/
CATEGORIES:Shuttle Hours
END:VEVENT
BEGIN:VEVENT
DTSTART;TZID=America/New_York:20261226T090000
DTEND;TZID=America/New_York:20261226T163000
DTSTAMP:20260421T200017
CREATED:20251121T215418Z
LAST-MODIFIED:20251121T215418Z
UID:10002091-1798275600-1798302600@wildsidetn.com
SUMMARY:Bike Shuttle
DESCRIPTION:
URL:https://wildsidetn.com/event/bike-shuttle-650/
CATEGORIES:Shuttle Hours
END:VEVENT
END:VCALENDAR