BEGIN:VCALENDAR
VERSION:2.0
PRODID:-//WildSide - ECPv6.15.20//NONSGML v1.0//EN
CALSCALE:GREGORIAN
METHOD:PUBLISH
X-ORIGINAL-URL:https://wildsidetn.com
X-WR-CALDESC:Events for WildSide
REFRESH-INTERVAL;VALUE=DURATION:PT1H
X-Robots-Tag:noindex
X-PUBLISHED-TTL:PT1H
BEGIN:VTIMEZONE
TZID:America/New_York
BEGIN:DAYLIGHT
TZOFFSETFROM:-0500
TZOFFSETTO:-0400
TZNAME:EDT
DTSTART:20250309T070000
END:DAYLIGHT
BEGIN:STANDARD
TZOFFSETFROM:-0400
TZOFFSETTO:-0500
TZNAME:EST
DTSTART:20251102T060000
END:STANDARD
BEGIN:DAYLIGHT
TZOFFSETFROM:-0500
TZOFFSETTO:-0400
TZNAME:EDT
DTSTART:20260308T070000
END:DAYLIGHT
BEGIN:STANDARD
TZOFFSETFROM:-0400
TZOFFSETTO:-0500
TZNAME:EST
DTSTART:20261101T060000
END:STANDARD
BEGIN:DAYLIGHT
TZOFFSETFROM:-0500
TZOFFSETTO:-0400
TZNAME:EDT
DTSTART:20270314T070000
END:DAYLIGHT
BEGIN:STANDARD
TZOFFSETFROM:-0400
TZOFFSETTO:-0500
TZNAME:EST
DTSTART:20271107T060000
END:STANDARD
END:VTIMEZONE
BEGIN:VEVENT
DTSTART;TZID=America/New_York:20260425T090000
DTEND;TZID=America/New_York:20260425T183000
DTSTAMP:20260421T111453
CREATED:20251121T195158Z
LAST-MODIFIED:20251121T195158Z
UID:10001848-1777107600-1777141800@wildsidetn.com
SUMMARY:Bike Shuttle
DESCRIPTION:
URL:https://wildsidetn.com/event/bike-shuttle-407/
CATEGORIES:Shuttle Hours
END:VEVENT
BEGIN:VEVENT
DTSTART;TZID=America/New_York:20260426T090000
DTEND;TZID=America/New_York:20260426T183000
DTSTAMP:20260421T111453
CREATED:20251121T195158Z
LAST-MODIFIED:20251121T195158Z
UID:10001849-1777194000-1777228200@wildsidetn.com
SUMMARY:Bike Shuttle
DESCRIPTION:
URL:https://wildsidetn.com/event/bike-shuttle-408/
CATEGORIES:Shuttle Hours
END:VEVENT
BEGIN:VEVENT
DTSTART;TZID=America/New_York:20260427T090000
DTEND;TZID=America/New_York:20260427T183000
DTSTAMP:20260421T111453
CREATED:20251121T195159Z
LAST-MODIFIED:20251121T195159Z
UID:10001850-1777280400-1777314600@wildsidetn.com
SUMMARY:Bike Shuttle
DESCRIPTION:
URL:https://wildsidetn.com/event/bike-shuttle-409/
CATEGORIES:Shuttle Hours
END:VEVENT
BEGIN:VEVENT
DTSTART;TZID=America/New_York:20260428T090000
DTEND;TZID=America/New_York:20260428T183000
DTSTAMP:20260421T111453
CREATED:20251121T195200Z
LAST-MODIFIED:20251121T195200Z
UID:10001851-1777366800-1777401000@wildsidetn.com
SUMMARY:Bike Shuttle
DESCRIPTION:
URL:https://wildsidetn.com/event/bike-shuttle-410/
CATEGORIES:Shuttle Hours
END:VEVENT
BEGIN:VEVENT
DTSTART;TZID=America/New_York:20260429T090000
DTEND;TZID=America/New_York:20260429T183000
DTSTAMP:20260421T111453
CREATED:20251121T195201Z
LAST-MODIFIED:20251121T195201Z
UID:10001852-1777453200-1777487400@wildsidetn.com
SUMMARY:Bike Shuttle
DESCRIPTION:
URL:https://wildsidetn.com/event/bike-shuttle-411/
CATEGORIES:Shuttle Hours
END:VEVENT
BEGIN:VEVENT
DTSTART;TZID=America/New_York:20260430T090000
DTEND;TZID=America/New_York:20260430T183000
DTSTAMP:20260421T111453
CREATED:20251121T200405Z
LAST-MODIFIED:20251121T200405Z
UID:10001853-1777539600-1777573800@wildsidetn.com
SUMMARY:Bike Shuttle
DESCRIPTION:
URL:https://wildsidetn.com/event/bike-shuttle-412/
CATEGORIES:Shuttle Hours
END:VEVENT
BEGIN:VEVENT
DTSTART;TZID=America/New_York:20260501T090000
DTEND;TZID=America/New_York:20260501T183000
DTSTAMP:20260421T111453
CREATED:20251121T200405Z
LAST-MODIFIED:20251121T200405Z
UID:10001854-1777626000-1777660200@wildsidetn.com
SUMMARY:Bike Shuttle
DESCRIPTION:
URL:https://wildsidetn.com/event/bike-shuttle-413/
CATEGORIES:Shuttle Hours
END:VEVENT
BEGIN:VEVENT
DTSTART;TZID=America/New_York:20260502T090000
DTEND;TZID=America/New_York:20260502T183000
DTSTAMP:20260421T111453
CREATED:20251121T200406Z
LAST-MODIFIED:20251121T200406Z
UID:10001855-1777712400-1777746600@wildsidetn.com
SUMMARY:Bike Shuttle
DESCRIPTION:
URL:https://wildsidetn.com/event/bike-shuttle-414/
CATEGORIES:Shuttle Hours
END:VEVENT
BEGIN:VEVENT
DTSTART;TZID=America/New_York:20260503T090000
DTEND;TZID=America/New_York:20260503T183000
DTSTAMP:20260421T111453
CREATED:20251121T200407Z
LAST-MODIFIED:20251121T200407Z
UID:10001856-1777798800-1777833000@wildsidetn.com
SUMMARY:Bike Shuttle
DESCRIPTION:
URL:https://wildsidetn.com/event/bike-shuttle-415/
CATEGORIES:Shuttle Hours
END:VEVENT
BEGIN:VEVENT
DTSTART;TZID=America/New_York:20260504T090000
DTEND;TZID=America/New_York:20260504T183000
DTSTAMP:20260421T111453
CREATED:20251121T200407Z
LAST-MODIFIED:20251121T200407Z
UID:10001857-1777885200-1777919400@wildsidetn.com
SUMMARY:Bike Shuttle
DESCRIPTION:
URL:https://wildsidetn.com/event/bike-shuttle-416/
CATEGORIES:Shuttle Hours
END:VEVENT
BEGIN:VEVENT
DTSTART;TZID=America/New_York:20260505T090000
DTEND;TZID=America/New_York:20260505T183000
DTSTAMP:20260421T111453
CREATED:20251121T200604Z
LAST-MODIFIED:20251121T200604Z
UID:10001858-1777971600-1778005800@wildsidetn.com
SUMMARY:Bike Shuttle
DESCRIPTION:
URL:https://wildsidetn.com/event/bike-shuttle-417/
CATEGORIES:Shuttle Hours
END:VEVENT
BEGIN:VEVENT
DTSTART;TZID=America/New_York:20260506T090000
DTEND;TZID=America/New_York:20260506T183000
DTSTAMP:20260421T111453
CREATED:20251121T200605Z
LAST-MODIFIED:20251121T200605Z
UID:10001859-1778058000-1778092200@wildsidetn.com
SUMMARY:Bike Shuttle
DESCRIPTION:
URL:https://wildsidetn.com/event/bike-shuttle-418/
CATEGORIES:Shuttle Hours
END:VEVENT
BEGIN:VEVENT
DTSTART;TZID=America/New_York:20260507T090000
DTEND;TZID=America/New_York:20260507T183000
DTSTAMP:20260421T111453
CREATED:20251121T200606Z
LAST-MODIFIED:20251121T200606Z
UID:10001860-1778144400-1778178600@wildsidetn.com
SUMMARY:Bike Shuttle
DESCRIPTION:
URL:https://wildsidetn.com/event/bike-shuttle-419/
CATEGORIES:Shuttle Hours
END:VEVENT
BEGIN:VEVENT
DTSTART;TZID=America/New_York:20260508T090000
DTEND;TZID=America/New_York:20260508T183000
DTSTAMP:20260421T111453
CREATED:20251121T200606Z
LAST-MODIFIED:20251121T200606Z
UID:10001861-1778230800-1778265000@wildsidetn.com
SUMMARY:Bike Shuttle
DESCRIPTION:
URL:https://wildsidetn.com/event/bike-shuttle-420/
CATEGORIES:Shuttle Hours
END:VEVENT
BEGIN:VEVENT
DTSTART;TZID=America/New_York:20260509T090000
DTEND;TZID=America/New_York:20260509T183000
DTSTAMP:20260421T111453
CREATED:20251121T200607Z
LAST-MODIFIED:20251121T200607Z
UID:10001862-1778317200-1778351400@wildsidetn.com
SUMMARY:Bike Shuttle
DESCRIPTION:
URL:https://wildsidetn.com/event/bike-shuttle-421/
CATEGORIES:Shuttle Hours
END:VEVENT
BEGIN:VEVENT
DTSTART;TZID=America/New_York:20260510T090000
DTEND;TZID=America/New_York:20260510T183000
DTSTAMP:20260421T111453
CREATED:20251121T200804Z
LAST-MODIFIED:20251121T200804Z
UID:10001863-1778403600-1778437800@wildsidetn.com
SUMMARY:Bike Shuttle
DESCRIPTION:
URL:https://wildsidetn.com/event/bike-shuttle-422/
CATEGORIES:Shuttle Hours
END:VEVENT
BEGIN:VEVENT
DTSTART;TZID=America/New_York:20260511T090000
DTEND;TZID=America/New_York:20260511T183000
DTSTAMP:20260421T111453
CREATED:20251121T200805Z
LAST-MODIFIED:20251121T200805Z
UID:10001864-1778490000-1778524200@wildsidetn.com
SUMMARY:Bike Shuttle
DESCRIPTION:
URL:https://wildsidetn.com/event/bike-shuttle-423/
CATEGORIES:Shuttle Hours
END:VEVENT
BEGIN:VEVENT
DTSTART;TZID=America/New_York:20260512T090000
DTEND;TZID=America/New_York:20260512T183000
DTSTAMP:20260421T111453
CREATED:20251121T200805Z
LAST-MODIFIED:20251121T200805Z
UID:10001865-1778576400-1778610600@wildsidetn.com
SUMMARY:Bike Shuttle
DESCRIPTION:
URL:https://wildsidetn.com/event/bike-shuttle-424/
CATEGORIES:Shuttle Hours
END:VEVENT
BEGIN:VEVENT
DTSTART;TZID=America/New_York:20260513T090000
DTEND;TZID=America/New_York:20260513T183000
DTSTAMP:20260421T111453
CREATED:20251121T200806Z
LAST-MODIFIED:20251121T200806Z
UID:10001866-1778662800-1778697000@wildsidetn.com
SUMMARY:Bike Shuttle
DESCRIPTION:
URL:https://wildsidetn.com/event/bike-shuttle-425/
CATEGORIES:Shuttle Hours
END:VEVENT
BEGIN:VEVENT
DTSTART;TZID=America/New_York:20260514T090000
DTEND;TZID=America/New_York:20260514T183000
DTSTAMP:20260421T111453
CREATED:20251121T200806Z
LAST-MODIFIED:20251121T200806Z
UID:10001867-1778749200-1778783400@wildsidetn.com
SUMMARY:Bike Shuttle
DESCRIPTION:
URL:https://wildsidetn.com/event/bike-shuttle-426/
CATEGORIES:Shuttle Hours
END:VEVENT
BEGIN:VEVENT
DTSTART;TZID=America/New_York:20260515T090000
DTEND;TZID=America/New_York:20260515T183000
DTSTAMP:20260421T111453
CREATED:20251121T201005Z
LAST-MODIFIED:20251121T201005Z
UID:10001868-1778835600-1778869800@wildsidetn.com
SUMMARY:Bike Shuttle
DESCRIPTION:
URL:https://wildsidetn.com/event/bike-shuttle-427/
CATEGORIES:Shuttle Hours
END:VEVENT
BEGIN:VEVENT
DTSTART;TZID=America/New_York:20260516T090000
DTEND;TZID=America/New_York:20260516T183000
DTSTAMP:20260421T111453
CREATED:20251121T201006Z
LAST-MODIFIED:20251121T201006Z
UID:10001869-1778922000-1778956200@wildsidetn.com
SUMMARY:Bike Shuttle
DESCRIPTION:
URL:https://wildsidetn.com/event/bike-shuttle-428/
CATEGORIES:Shuttle Hours
END:VEVENT
BEGIN:VEVENT
DTSTART;TZID=America/New_York:20260517T090000
DTEND;TZID=America/New_York:20260517T183000
DTSTAMP:20260421T111453
CREATED:20251121T201006Z
LAST-MODIFIED:20251121T201006Z
UID:10001870-1779008400-1779042600@wildsidetn.com
SUMMARY:Bike Shuttle
DESCRIPTION:
URL:https://wildsidetn.com/event/bike-shuttle-429/
CATEGORIES:Shuttle Hours
END:VEVENT
BEGIN:VEVENT
DTSTART;TZID=America/New_York:20260518T090000
DTEND;TZID=America/New_York:20260518T183000
DTSTAMP:20260421T111453
CREATED:20251121T201007Z
LAST-MODIFIED:20251121T201007Z
UID:10001871-1779094800-1779129000@wildsidetn.com
SUMMARY:Bike Shuttle
DESCRIPTION:
URL:https://wildsidetn.com/event/bike-shuttle-430/
CATEGORIES:Shuttle Hours
END:VEVENT
BEGIN:VEVENT
DTSTART;TZID=America/New_York:20260519T090000
DTEND;TZID=America/New_York:20260519T183000
DTSTAMP:20260421T111453
CREATED:20251121T201008Z
LAST-MODIFIED:20251121T201008Z
UID:10001872-1779181200-1779215400@wildsidetn.com
SUMMARY:Bike Shuttle
DESCRIPTION:
URL:https://wildsidetn.com/event/bike-shuttle-431/
CATEGORIES:Shuttle Hours
END:VEVENT
BEGIN:VEVENT
DTSTART;TZID=America/New_York:20260520T090000
DTEND;TZID=America/New_York:20260520T183000
DTSTAMP:20260421T111453
CREATED:20251121T201206Z
LAST-MODIFIED:20251121T201206Z
UID:10001873-1779267600-1779301800@wildsidetn.com
SUMMARY:Bike Shuttle
DESCRIPTION:
URL:https://wildsidetn.com/event/bike-shuttle-432/
CATEGORIES:Shuttle Hours
END:VEVENT
BEGIN:VEVENT
DTSTART;TZID=America/New_York:20260521T090000
DTEND;TZID=America/New_York:20260521T183000
DTSTAMP:20260421T111453
CREATED:20251121T201207Z
LAST-MODIFIED:20251121T201207Z
UID:10001874-1779354000-1779388200@wildsidetn.com
SUMMARY:Bike Shuttle
DESCRIPTION:
URL:https://wildsidetn.com/event/bike-shuttle-433/
CATEGORIES:Shuttle Hours
END:VEVENT
BEGIN:VEVENT
DTSTART;TZID=America/New_York:20260522T090000
DTEND;TZID=America/New_York:20260522T183000
DTSTAMP:20260421T111453
CREATED:20251121T201207Z
LAST-MODIFIED:20251121T201207Z
UID:10001875-1779440400-1779474600@wildsidetn.com
SUMMARY:Bike Shuttle
DESCRIPTION:
URL:https://wildsidetn.com/event/bike-shuttle-434/
CATEGORIES:Shuttle Hours
END:VEVENT
BEGIN:VEVENT
DTSTART;TZID=America/New_York:20260523T090000
DTEND;TZID=America/New_York:20260523T183000
DTSTAMP:20260421T111453
CREATED:20251121T201208Z
LAST-MODIFIED:20251121T201208Z
UID:10001876-1779526800-1779561000@wildsidetn.com
SUMMARY:Bike Shuttle
DESCRIPTION:
URL:https://wildsidetn.com/event/bike-shuttle-435/
CATEGORIES:Shuttle Hours
END:VEVENT
BEGIN:VEVENT
DTSTART;TZID=America/New_York:20260524T090000
DTEND;TZID=America/New_York:20260524T183000
DTSTAMP:20260421T111453
CREATED:20251121T201208Z
LAST-MODIFIED:20251121T201208Z
UID:10001877-1779613200-1779647400@wildsidetn.com
SUMMARY:Bike Shuttle
DESCRIPTION:
URL:https://wildsidetn.com/event/bike-shuttle-436/
CATEGORIES:Shuttle Hours
END:VEVENT
END:VCALENDAR