BEGIN:VCALENDAR
VERSION:2.0
PRODID:-//WildSide - ECPv6.15.20//NONSGML v1.0//EN
CALSCALE:GREGORIAN
METHOD:PUBLISH
X-WR-CALNAME:WildSide
X-ORIGINAL-URL:https://wildsidetn.com
X-WR-CALDESC:Events for WildSide
REFRESH-INTERVAL;VALUE=DURATION:PT1H
X-Robots-Tag:noindex
X-PUBLISHED-TTL:PT1H
BEGIN:VTIMEZONE
TZID:America/New_York
BEGIN:DAYLIGHT
TZOFFSETFROM:-0500
TZOFFSETTO:-0400
TZNAME:EDT
DTSTART:20250309T070000
END:DAYLIGHT
BEGIN:STANDARD
TZOFFSETFROM:-0400
TZOFFSETTO:-0500
TZNAME:EST
DTSTART:20251102T060000
END:STANDARD
BEGIN:DAYLIGHT
TZOFFSETFROM:-0500
TZOFFSETTO:-0400
TZNAME:EDT
DTSTART:20260308T070000
END:DAYLIGHT
BEGIN:STANDARD
TZOFFSETFROM:-0400
TZOFFSETTO:-0500
TZNAME:EST
DTSTART:20261101T060000
END:STANDARD
BEGIN:DAYLIGHT
TZOFFSETFROM:-0500
TZOFFSETTO:-0400
TZNAME:EDT
DTSTART:20270314T070000
END:DAYLIGHT
BEGIN:STANDARD
TZOFFSETFROM:-0400
TZOFFSETTO:-0500
TZNAME:EST
DTSTART:20271107T060000
END:STANDARD
END:VTIMEZONE
BEGIN:VEVENT
DTSTART;TZID=America/New_York:20260327T090000
DTEND;TZID=America/New_York:20260327T183000
DTSTAMP:20260421T100924
CREATED:20251121T193547Z
LAST-MODIFIED:20251121T193547Z
UID:10001819-1774602000-1774636200@wildsidetn.com
SUMMARY:Bike Shuttle
DESCRIPTION:
URL:https://wildsidetn.com/event/bike-shuttle-378/
CATEGORIES:Shuttle Hours
END:VEVENT
BEGIN:VEVENT
DTSTART;TZID=America/New_York:20260326T090000
DTEND;TZID=America/New_York:20260326T183000
DTSTAMP:20260421T100924
CREATED:20251121T193546Z
LAST-MODIFIED:20251121T193546Z
UID:10001818-1774515600-1774549800@wildsidetn.com
SUMMARY:Bike Shuttle
DESCRIPTION:
URL:https://wildsidetn.com/event/bike-shuttle-377/
CATEGORIES:Shuttle Hours
END:VEVENT
BEGIN:VEVENT
DTSTART;TZID=America/New_York:20260325T090000
DTEND;TZID=America/New_York:20260325T183000
DTSTAMP:20260421T100924
CREATED:20251121T193348Z
LAST-MODIFIED:20251121T193348Z
UID:10001817-1774429200-1774463400@wildsidetn.com
SUMMARY:Bike Shuttle
DESCRIPTION:
URL:https://wildsidetn.com/event/bike-shuttle-376/
CATEGORIES:Shuttle Hours
END:VEVENT
BEGIN:VEVENT
DTSTART;TZID=America/New_York:20260324T090000
DTEND;TZID=America/New_York:20260324T183000
DTSTAMP:20260421T100924
CREATED:20251121T193348Z
LAST-MODIFIED:20251121T193348Z
UID:10001816-1774342800-1774377000@wildsidetn.com
SUMMARY:Bike Shuttle
DESCRIPTION:
URL:https://wildsidetn.com/event/bike-shuttle-375/
CATEGORIES:Shuttle Hours
END:VEVENT
BEGIN:VEVENT
DTSTART;TZID=America/New_York:20260323T090000
DTEND;TZID=America/New_York:20260323T183000
DTSTAMP:20260421T100924
CREATED:20251121T193347Z
LAST-MODIFIED:20251121T193347Z
UID:10001815-1774256400-1774290600@wildsidetn.com
SUMMARY:Bike Shuttle
DESCRIPTION:
URL:https://wildsidetn.com/event/bike-shuttle-374/
CATEGORIES:Shuttle Hours
END:VEVENT
BEGIN:VEVENT
DTSTART;TZID=America/New_York:20260322T090000
DTEND;TZID=America/New_York:20260322T183000
DTSTAMP:20260421T100924
CREATED:20251121T193347Z
LAST-MODIFIED:20251121T193347Z
UID:10001814-1774170000-1774204200@wildsidetn.com
SUMMARY:Bike Shuttle
DESCRIPTION:
URL:https://wildsidetn.com/event/bike-shuttle-373/
CATEGORIES:Shuttle Hours
END:VEVENT
BEGIN:VEVENT
DTSTART;TZID=America/New_York:20260321T090000
DTEND;TZID=America/New_York:20260321T183000
DTSTAMP:20260421T100924
CREATED:20251121T193346Z
LAST-MODIFIED:20251121T193346Z
UID:10001813-1774083600-1774117800@wildsidetn.com
SUMMARY:Bike Shuttle
DESCRIPTION:
URL:https://wildsidetn.com/event/bike-shuttle-372/
CATEGORIES:Shuttle Hours
END:VEVENT
BEGIN:VEVENT
DTSTART;TZID=America/New_York:20260320T090000
DTEND;TZID=America/New_York:20260320T183000
DTSTAMP:20260421T100924
CREATED:20251121T193148Z
LAST-MODIFIED:20251121T193148Z
UID:10001812-1773997200-1774031400@wildsidetn.com
SUMMARY:Bike Shuttle
DESCRIPTION:
URL:https://wildsidetn.com/event/bike-shuttle-371/
CATEGORIES:Shuttle Hours
END:VEVENT
BEGIN:VEVENT
DTSTART;TZID=America/New_York:20260319T090000
DTEND;TZID=America/New_York:20260319T183000
DTSTAMP:20260421T100924
CREATED:20251121T193148Z
LAST-MODIFIED:20251121T193148Z
UID:10001811-1773910800-1773945000@wildsidetn.com
SUMMARY:Bike Shuttle
DESCRIPTION:
URL:https://wildsidetn.com/event/bike-shuttle-370/
CATEGORIES:Shuttle Hours
END:VEVENT
BEGIN:VEVENT
DTSTART;TZID=America/New_York:20260318T090000
DTEND;TZID=America/New_York:20260318T183000
DTSTAMP:20260421T100924
CREATED:20251121T193147Z
LAST-MODIFIED:20251121T193147Z
UID:10001810-1773824400-1773858600@wildsidetn.com
SUMMARY:Bike Shuttle
DESCRIPTION:
URL:https://wildsidetn.com/event/bike-shuttle-369/
CATEGORIES:Shuttle Hours
END:VEVENT
BEGIN:VEVENT
DTSTART;TZID=America/New_York:20260317T090000
DTEND;TZID=America/New_York:20260317T183000
DTSTAMP:20260421T100924
CREATED:20251121T193147Z
LAST-MODIFIED:20251121T193147Z
UID:10001809-1773738000-1773772200@wildsidetn.com
SUMMARY:Bike Shuttle
DESCRIPTION:
URL:https://wildsidetn.com/event/bike-shuttle-368/
CATEGORIES:Shuttle Hours
END:VEVENT
BEGIN:VEVENT
DTSTART;TZID=America/New_York:20260316T090000
DTEND;TZID=America/New_York:20260316T183000
DTSTAMP:20260421T100924
CREATED:20251121T193146Z
LAST-MODIFIED:20251121T193146Z
UID:10001808-1773651600-1773685800@wildsidetn.com
SUMMARY:Bike Shuttle
DESCRIPTION:
URL:https://wildsidetn.com/event/bike-shuttle-367/
CATEGORIES:Shuttle Hours
END:VEVENT
BEGIN:VEVENT
DTSTART;TZID=America/New_York:20260315T090000
DTEND;TZID=America/New_York:20260315T183000
DTSTAMP:20260421T100924
CREATED:20251121T192949Z
LAST-MODIFIED:20251121T192949Z
UID:10001807-1773565200-1773599400@wildsidetn.com
SUMMARY:Bike Shuttle
DESCRIPTION:
URL:https://wildsidetn.com/event/bike-shuttle-366/
CATEGORIES:Shuttle Hours
END:VEVENT
BEGIN:VEVENT
DTSTART;TZID=America/New_York:20260314T090000
DTEND;TZID=America/New_York:20260314T183000
DTSTAMP:20260421T100924
CREATED:20251121T192949Z
LAST-MODIFIED:20251121T192949Z
UID:10001806-1773478800-1773513000@wildsidetn.com
SUMMARY:Bike Shuttle
DESCRIPTION:
URL:https://wildsidetn.com/event/bike-shuttle-365/
CATEGORIES:Shuttle Hours
END:VEVENT
BEGIN:VEVENT
DTSTART;TZID=America/New_York:20260313T090000
DTEND;TZID=America/New_York:20260313T183000
DTSTAMP:20260421T100924
CREATED:20251121T192948Z
LAST-MODIFIED:20251121T192948Z
UID:10001805-1773392400-1773426600@wildsidetn.com
SUMMARY:Bike Shuttle
DESCRIPTION:
URL:https://wildsidetn.com/event/bike-shuttle-364/
CATEGORIES:Shuttle Hours
END:VEVENT
BEGIN:VEVENT
DTSTART;TZID=America/New_York:20260312T090000
DTEND;TZID=America/New_York:20260312T183000
DTSTAMP:20260421T100924
CREATED:20251121T192947Z
LAST-MODIFIED:20251121T192947Z
UID:10001804-1773306000-1773340200@wildsidetn.com
SUMMARY:Bike Shuttle
DESCRIPTION:
URL:https://wildsidetn.com/event/bike-shuttle-363/
CATEGORIES:Shuttle Hours
END:VEVENT
BEGIN:VEVENT
DTSTART;TZID=America/New_York:20260311T090000
DTEND;TZID=America/New_York:20260311T183000
DTSTAMP:20260421T100924
CREATED:20251121T192946Z
LAST-MODIFIED:20251121T192946Z
UID:10001803-1773219600-1773253800@wildsidetn.com
SUMMARY:Bike Shuttle
DESCRIPTION:
URL:https://wildsidetn.com/event/bike-shuttle-362/
CATEGORIES:Shuttle Hours
END:VEVENT
BEGIN:VEVENT
DTSTART;TZID=America/New_York:20260310T090000
DTEND;TZID=America/New_York:20260310T183000
DTSTAMP:20260421T100924
CREATED:20251121T192750Z
LAST-MODIFIED:20251121T192750Z
UID:10001802-1773133200-1773167400@wildsidetn.com
SUMMARY:Bike Shuttle
DESCRIPTION:
URL:https://wildsidetn.com/event/bike-shuttle-361/
CATEGORIES:Shuttle Hours
END:VEVENT
BEGIN:VEVENT
DTSTART;TZID=America/New_York:20260309T090000
DTEND;TZID=America/New_York:20260309T183000
DTSTAMP:20260421T100924
CREATED:20251121T192749Z
LAST-MODIFIED:20251121T192749Z
UID:10001801-1773046800-1773081000@wildsidetn.com
SUMMARY:Bike Shuttle
DESCRIPTION:
URL:https://wildsidetn.com/event/bike-shuttle-360/
CATEGORIES:Shuttle Hours
END:VEVENT
BEGIN:VEVENT
DTSTART;TZID=America/New_York:20260308T090000
DTEND;TZID=America/New_York:20260308T183000
DTSTAMP:20260421T100924
CREATED:20251121T192748Z
LAST-MODIFIED:20251121T192748Z
UID:10001800-1772960400-1772994600@wildsidetn.com
SUMMARY:Bike Shuttle
DESCRIPTION:
URL:https://wildsidetn.com/event/bike-shuttle-359/
CATEGORIES:Shuttle Hours
END:VEVENT
BEGIN:VEVENT
DTSTART;TZID=America/New_York:20260307T090000
DTEND;TZID=America/New_York:20260307T163000
DTSTAMP:20260421T100924
CREATED:20251121T192747Z
LAST-MODIFIED:20251121T192747Z
UID:10001799-1772874000-1772901000@wildsidetn.com
SUMMARY:Bike Shuttle
DESCRIPTION:
URL:https://wildsidetn.com/event/bike-shuttle-358/
CATEGORIES:Shuttle Hours
END:VEVENT
BEGIN:VEVENT
DTSTART;TZID=America/New_York:20260306T090000
DTEND;TZID=America/New_York:20260306T163000
DTSTAMP:20260421T100924
CREATED:20251121T192746Z
LAST-MODIFIED:20251121T192746Z
UID:10001798-1772787600-1772814600@wildsidetn.com
SUMMARY:Bike Shuttle
DESCRIPTION:
URL:https://wildsidetn.com/event/bike-shuttle-357/
CATEGORIES:Shuttle Hours
END:VEVENT
BEGIN:VEVENT
DTSTART;TZID=America/New_York:20260301T110000
DTEND;TZID=America/New_York:20260301T163000
DTSTAMP:20260421T100924
CREATED:20251121T192549Z
LAST-MODIFIED:20260227T160754Z
UID:10001797-1772362800-1772382600@wildsidetn.com
SUMMARY:Bike Shuttle
DESCRIPTION:
URL:https://wildsidetn.com/event/bike-shuttle-356/
CATEGORIES:Shuttle Hours
END:VEVENT
BEGIN:VEVENT
DTSTART;TZID=America/New_York:20260228T110000
DTEND;TZID=America/New_York:20260228T163000
DTSTAMP:20260421T100924
CREATED:20251121T192548Z
LAST-MODIFIED:20251230T160111Z
UID:10001796-1772276400-1772296200@wildsidetn.com
SUMMARY:Bike Shuttle
DESCRIPTION:
URL:https://wildsidetn.com/event/bike-shuttle-355/
CATEGORIES:Shuttle Hours
END:VEVENT
BEGIN:VEVENT
DTSTART;TZID=America/New_York:20260227T110000
DTEND;TZID=America/New_York:20260227T163000
DTSTAMP:20260421T100924
CREATED:20251121T192547Z
LAST-MODIFIED:20251230T160020Z
UID:10001795-1772190000-1772209800@wildsidetn.com
SUMMARY:Bike Shuttle
DESCRIPTION:
URL:https://wildsidetn.com/event/bike-shuttle-354/
CATEGORIES:Shuttle Hours
END:VEVENT
BEGIN:VEVENT
DTSTART;TZID=America/New_York:20260222T110000
DTEND;TZID=America/New_York:20260222T163000
DTSTAMP:20260421T100924
CREATED:20251121T192547Z
LAST-MODIFIED:20251230T160054Z
UID:10001794-1771758000-1771777800@wildsidetn.com
SUMMARY:Bike Shuttle
DESCRIPTION:
URL:https://wildsidetn.com/event/bike-shuttle-353/
CATEGORIES:Shuttle Hours
END:VEVENT
BEGIN:VEVENT
DTSTART;TZID=America/New_York:20260221T110000
DTEND;TZID=America/New_York:20260221T163000
DTSTAMP:20260421T100924
CREATED:20251121T192546Z
LAST-MODIFIED:20251230T160053Z
UID:10001793-1771671600-1771691400@wildsidetn.com
SUMMARY:Bike Shuttle
DESCRIPTION:
URL:https://wildsidetn.com/event/bike-shuttle-352/
CATEGORIES:Shuttle Hours
END:VEVENT
BEGIN:VEVENT
DTSTART;TZID=America/New_York:20260220T110000
DTEND;TZID=America/New_York:20260220T163000
DTSTAMP:20260421T100924
CREATED:20251121T192350Z
LAST-MODIFIED:20251230T160107Z
UID:10001792-1771585200-1771605000@wildsidetn.com
SUMMARY:Bike Shuttle
DESCRIPTION:
URL:https://wildsidetn.com/event/bike-shuttle-351/
CATEGORIES:Shuttle Hours
END:VEVENT
BEGIN:VEVENT
DTSTART;TZID=America/New_York:20260215T110000
DTEND;TZID=America/New_York:20260215T163000
DTSTAMP:20260421T100924
CREATED:20251121T192348Z
LAST-MODIFIED:20251230T160050Z
UID:10001790-1771153200-1771173000@wildsidetn.com
SUMMARY:Bike Shuttle
DESCRIPTION:
URL:https://wildsidetn.com/event/bike-shuttle-349/
CATEGORIES:Shuttle Hours
END:VEVENT
BEGIN:VEVENT
DTSTART;TZID=America/New_York:20260214T110000
DTEND;TZID=America/New_York:20260214T163000
DTSTAMP:20260421T100924
CREATED:20251121T192347Z
LAST-MODIFIED:20251230T160047Z
UID:10001789-1771066800-1771086600@wildsidetn.com
SUMMARY:Bike Shuttle
DESCRIPTION:
URL:https://wildsidetn.com/event/bike-shuttle-348/
CATEGORIES:Shuttle Hours
END:VEVENT
END:VCALENDAR