BEGIN:VCALENDAR
VERSION:2.0
PRODID:-//WildSide - ECPv6.15.20//NONSGML v1.0//EN
CALSCALE:GREGORIAN
METHOD:PUBLISH
X-WR-CALNAME:WildSide
X-ORIGINAL-URL:https://wildsidetn.com
X-WR-CALDESC:Events for WildSide
REFRESH-INTERVAL;VALUE=DURATION:PT1H
X-Robots-Tag:noindex
X-PUBLISHED-TTL:PT1H
BEGIN:VTIMEZONE
TZID:America/New_York
BEGIN:DAYLIGHT
TZOFFSETFROM:-0500
TZOFFSETTO:-0400
TZNAME:EDT
DTSTART:20250309T070000
END:DAYLIGHT
BEGIN:STANDARD
TZOFFSETFROM:-0400
TZOFFSETTO:-0500
TZNAME:EST
DTSTART:20251102T060000
END:STANDARD
BEGIN:DAYLIGHT
TZOFFSETFROM:-0500
TZOFFSETTO:-0400
TZNAME:EDT
DTSTART:20260308T070000
END:DAYLIGHT
BEGIN:STANDARD
TZOFFSETFROM:-0400
TZOFFSETTO:-0500
TZNAME:EST
DTSTART:20261101T060000
END:STANDARD
BEGIN:DAYLIGHT
TZOFFSETFROM:-0500
TZOFFSETTO:-0400
TZNAME:EDT
DTSTART:20270314T070000
END:DAYLIGHT
BEGIN:STANDARD
TZOFFSETFROM:-0400
TZOFFSETTO:-0500
TZNAME:EST
DTSTART:20271107T060000
END:STANDARD
END:VTIMEZONE
BEGIN:VEVENT
DTSTART;TZID=America/New_York:20260317T090000
DTEND;TZID=America/New_York:20260317T183000
DTSTAMP:20260421T083244
CREATED:20251121T193147Z
LAST-MODIFIED:20251121T193147Z
UID:10001809-1773738000-1773772200@wildsidetn.com
SUMMARY:Bike Shuttle
DESCRIPTION:
URL:https://wildsidetn.com/event/bike-shuttle-368/
CATEGORIES:Shuttle Hours
END:VEVENT
BEGIN:VEVENT
DTSTART;TZID=America/New_York:20260318T090000
DTEND;TZID=America/New_York:20260318T183000
DTSTAMP:20260421T083244
CREATED:20251121T193147Z
LAST-MODIFIED:20251121T193147Z
UID:10001810-1773824400-1773858600@wildsidetn.com
SUMMARY:Bike Shuttle
DESCRIPTION:
URL:https://wildsidetn.com/event/bike-shuttle-369/
CATEGORIES:Shuttle Hours
END:VEVENT
BEGIN:VEVENT
DTSTART;TZID=America/New_York:20260319T090000
DTEND;TZID=America/New_York:20260319T183000
DTSTAMP:20260421T083244
CREATED:20251121T193148Z
LAST-MODIFIED:20251121T193148Z
UID:10001811-1773910800-1773945000@wildsidetn.com
SUMMARY:Bike Shuttle
DESCRIPTION:
URL:https://wildsidetn.com/event/bike-shuttle-370/
CATEGORIES:Shuttle Hours
END:VEVENT
BEGIN:VEVENT
DTSTART;TZID=America/New_York:20260320T090000
DTEND;TZID=America/New_York:20260320T183000
DTSTAMP:20260421T083244
CREATED:20251121T193148Z
LAST-MODIFIED:20251121T193148Z
UID:10001812-1773997200-1774031400@wildsidetn.com
SUMMARY:Bike Shuttle
DESCRIPTION:
URL:https://wildsidetn.com/event/bike-shuttle-371/
CATEGORIES:Shuttle Hours
END:VEVENT
BEGIN:VEVENT
DTSTART;TZID=America/New_York:20260321T090000
DTEND;TZID=America/New_York:20260321T183000
DTSTAMP:20260421T083244
CREATED:20251121T193346Z
LAST-MODIFIED:20251121T193346Z
UID:10001813-1774083600-1774117800@wildsidetn.com
SUMMARY:Bike Shuttle
DESCRIPTION:
URL:https://wildsidetn.com/event/bike-shuttle-372/
CATEGORIES:Shuttle Hours
END:VEVENT
BEGIN:VEVENT
DTSTART;TZID=America/New_York:20260322T090000
DTEND;TZID=America/New_York:20260322T183000
DTSTAMP:20260421T083244
CREATED:20251121T193347Z
LAST-MODIFIED:20251121T193347Z
UID:10001814-1774170000-1774204200@wildsidetn.com
SUMMARY:Bike Shuttle
DESCRIPTION:
URL:https://wildsidetn.com/event/bike-shuttle-373/
CATEGORIES:Shuttle Hours
END:VEVENT
BEGIN:VEVENT
DTSTART;TZID=America/New_York:20260323T090000
DTEND;TZID=America/New_York:20260323T183000
DTSTAMP:20260421T083244
CREATED:20251121T193347Z
LAST-MODIFIED:20251121T193347Z
UID:10001815-1774256400-1774290600@wildsidetn.com
SUMMARY:Bike Shuttle
DESCRIPTION:
URL:https://wildsidetn.com/event/bike-shuttle-374/
CATEGORIES:Shuttle Hours
END:VEVENT
BEGIN:VEVENT
DTSTART;TZID=America/New_York:20260324T090000
DTEND;TZID=America/New_York:20260324T183000
DTSTAMP:20260421T083244
CREATED:20251121T193348Z
LAST-MODIFIED:20251121T193348Z
UID:10001816-1774342800-1774377000@wildsidetn.com
SUMMARY:Bike Shuttle
DESCRIPTION:
URL:https://wildsidetn.com/event/bike-shuttle-375/
CATEGORIES:Shuttle Hours
END:VEVENT
BEGIN:VEVENT
DTSTART;TZID=America/New_York:20260325T090000
DTEND;TZID=America/New_York:20260325T183000
DTSTAMP:20260421T083244
CREATED:20251121T193348Z
LAST-MODIFIED:20251121T193348Z
UID:10001817-1774429200-1774463400@wildsidetn.com
SUMMARY:Bike Shuttle
DESCRIPTION:
URL:https://wildsidetn.com/event/bike-shuttle-376/
CATEGORIES:Shuttle Hours
END:VEVENT
BEGIN:VEVENT
DTSTART;TZID=America/New_York:20260326T090000
DTEND;TZID=America/New_York:20260326T183000
DTSTAMP:20260421T083244
CREATED:20251121T193546Z
LAST-MODIFIED:20251121T193546Z
UID:10001818-1774515600-1774549800@wildsidetn.com
SUMMARY:Bike Shuttle
DESCRIPTION:
URL:https://wildsidetn.com/event/bike-shuttle-377/
CATEGORIES:Shuttle Hours
END:VEVENT
BEGIN:VEVENT
DTSTART;TZID=America/New_York:20260327T090000
DTEND;TZID=America/New_York:20260327T183000
DTSTAMP:20260421T083244
CREATED:20251121T193547Z
LAST-MODIFIED:20251121T193547Z
UID:10001819-1774602000-1774636200@wildsidetn.com
SUMMARY:Bike Shuttle
DESCRIPTION:
URL:https://wildsidetn.com/event/bike-shuttle-378/
CATEGORIES:Shuttle Hours
END:VEVENT
BEGIN:VEVENT
DTSTART;TZID=America/New_York:20260328T090000
DTEND;TZID=America/New_York:20260328T183000
DTSTAMP:20260421T083244
CREATED:20251121T193548Z
LAST-MODIFIED:20251121T193548Z
UID:10001820-1774688400-1774722600@wildsidetn.com
SUMMARY:Bike Shuttle
DESCRIPTION:
URL:https://wildsidetn.com/event/bike-shuttle-379/
CATEGORIES:Shuttle Hours
END:VEVENT
BEGIN:VEVENT
DTSTART;TZID=America/New_York:20260329T090000
DTEND;TZID=America/New_York:20260329T183000
DTSTAMP:20260421T083244
CREATED:20251121T193548Z
LAST-MODIFIED:20251121T193548Z
UID:10001821-1774774800-1774809000@wildsidetn.com
SUMMARY:Bike Shuttle
DESCRIPTION:
URL:https://wildsidetn.com/event/bike-shuttle-380/
CATEGORIES:Shuttle Hours
END:VEVENT
BEGIN:VEVENT
DTSTART;TZID=America/New_York:20260330T090000
DTEND;TZID=America/New_York:20260330T183000
DTSTAMP:20260421T083244
CREATED:20251121T193549Z
LAST-MODIFIED:20251121T193549Z
UID:10001822-1774861200-1774895400@wildsidetn.com
SUMMARY:Bike Shuttle
DESCRIPTION:
URL:https://wildsidetn.com/event/bike-shuttle-381/
CATEGORIES:Shuttle Hours
END:VEVENT
BEGIN:VEVENT
DTSTART;TZID=America/New_York:20260331T090000
DTEND;TZID=America/New_York:20260331T183000
DTSTAMP:20260421T083244
CREATED:20251121T194154Z
LAST-MODIFIED:20251121T194154Z
UID:10001823-1774947600-1774981800@wildsidetn.com
SUMMARY:Bike Shuttle
DESCRIPTION:
URL:https://wildsidetn.com/event/bike-shuttle-382/
CATEGORIES:Shuttle Hours
END:VEVENT
BEGIN:VEVENT
DTSTART;TZID=America/New_York:20260401T090000
DTEND;TZID=America/New_York:20260401T183000
DTSTAMP:20260421T083244
CREATED:20251121T194154Z
LAST-MODIFIED:20251121T194154Z
UID:10001824-1775034000-1775068200@wildsidetn.com
SUMMARY:Bike Shuttle
DESCRIPTION:
URL:https://wildsidetn.com/event/bike-shuttle-383/
CATEGORIES:Shuttle Hours
END:VEVENT
BEGIN:VEVENT
DTSTART;TZID=America/New_York:20260402T090000
DTEND;TZID=America/New_York:20260402T183000
DTSTAMP:20260421T083244
CREATED:20251121T194155Z
LAST-MODIFIED:20251121T194155Z
UID:10001825-1775120400-1775154600@wildsidetn.com
SUMMARY:Bike Shuttle
DESCRIPTION:
URL:https://wildsidetn.com/event/bike-shuttle-384/
CATEGORIES:Shuttle Hours
END:VEVENT
BEGIN:VEVENT
DTSTART;TZID=America/New_York:20260403T090000
DTEND;TZID=America/New_York:20260403T183000
DTSTAMP:20260421T083244
CREATED:20251121T194156Z
LAST-MODIFIED:20251121T194156Z
UID:10001826-1775206800-1775241000@wildsidetn.com
SUMMARY:Bike Shuttle
DESCRIPTION:
URL:https://wildsidetn.com/event/bike-shuttle-385/
CATEGORIES:Shuttle Hours
END:VEVENT
BEGIN:VEVENT
DTSTART;TZID=America/New_York:20260404T090000
DTEND;TZID=America/New_York:20260404T183000
DTSTAMP:20260421T083244
CREATED:20251121T194156Z
LAST-MODIFIED:20251121T194156Z
UID:10001827-1775293200-1775327400@wildsidetn.com
SUMMARY:Bike Shuttle
DESCRIPTION:
URL:https://wildsidetn.com/event/bike-shuttle-386/
CATEGORIES:Shuttle Hours
END:VEVENT
BEGIN:VEVENT
DTSTART;TZID=America/New_York:20260405T090000
DTEND;TZID=America/New_York:20260405T183000
DTSTAMP:20260421T083244
CREATED:20251121T194354Z
LAST-MODIFIED:20251121T194354Z
UID:10001828-1775379600-1775413800@wildsidetn.com
SUMMARY:Bike Shuttle
DESCRIPTION:
URL:https://wildsidetn.com/event/bike-shuttle-387/
CATEGORIES:Shuttle Hours
END:VEVENT
BEGIN:VEVENT
DTSTART;TZID=America/New_York:20260406T090000
DTEND;TZID=America/New_York:20260406T183000
DTSTAMP:20260421T083244
CREATED:20251121T194354Z
LAST-MODIFIED:20251121T194354Z
UID:10001829-1775466000-1775500200@wildsidetn.com
SUMMARY:Bike Shuttle
DESCRIPTION:
URL:https://wildsidetn.com/event/bike-shuttle-388/
CATEGORIES:Shuttle Hours
END:VEVENT
BEGIN:VEVENT
DTSTART;TZID=America/New_York:20260407T090000
DTEND;TZID=America/New_York:20260407T183000
DTSTAMP:20260421T083244
CREATED:20251121T194355Z
LAST-MODIFIED:20251121T194355Z
UID:10001830-1775552400-1775586600@wildsidetn.com
SUMMARY:Bike Shuttle
DESCRIPTION:
URL:https://wildsidetn.com/event/bike-shuttle-389/
CATEGORIES:Shuttle Hours
END:VEVENT
BEGIN:VEVENT
DTSTART;TZID=America/New_York:20260408T090000
DTEND;TZID=America/New_York:20260408T183000
DTSTAMP:20260421T083244
CREATED:20251121T194356Z
LAST-MODIFIED:20251121T194356Z
UID:10001831-1775638800-1775673000@wildsidetn.com
SUMMARY:Bike Shuttle
DESCRIPTION:
URL:https://wildsidetn.com/event/bike-shuttle-390/
CATEGORIES:Shuttle Hours
END:VEVENT
BEGIN:VEVENT
DTSTART;TZID=America/New_York:20260409T090000
DTEND;TZID=America/New_York:20260409T183000
DTSTAMP:20260421T083244
CREATED:20251121T194357Z
LAST-MODIFIED:20251121T194357Z
UID:10001832-1775725200-1775759400@wildsidetn.com
SUMMARY:Bike Shuttle
DESCRIPTION:
URL:https://wildsidetn.com/event/bike-shuttle-391/
CATEGORIES:Shuttle Hours
END:VEVENT
BEGIN:VEVENT
DTSTART;TZID=America/New_York:20260410T090000
DTEND;TZID=America/New_York:20260410T183000
DTSTAMP:20260421T083244
CREATED:20251121T194555Z
LAST-MODIFIED:20251121T194555Z
UID:10001833-1775811600-1775845800@wildsidetn.com
SUMMARY:Bike Shuttle
DESCRIPTION:
URL:https://wildsidetn.com/event/bike-shuttle-392/
CATEGORIES:Shuttle Hours
END:VEVENT
BEGIN:VEVENT
DTSTART;TZID=America/New_York:20260411T090000
DTEND;TZID=America/New_York:20260411T183000
DTSTAMP:20260421T083244
CREATED:20251121T194555Z
LAST-MODIFIED:20251121T194555Z
UID:10001834-1775898000-1775932200@wildsidetn.com
SUMMARY:Bike Shuttle
DESCRIPTION:
URL:https://wildsidetn.com/event/bike-shuttle-393/
CATEGORIES:Shuttle Hours
END:VEVENT
BEGIN:VEVENT
DTSTART;TZID=America/New_York:20260412T090000
DTEND;TZID=America/New_York:20260412T183000
DTSTAMP:20260421T083244
CREATED:20251121T194556Z
LAST-MODIFIED:20251121T194556Z
UID:10001835-1775984400-1776018600@wildsidetn.com
SUMMARY:Bike Shuttle
DESCRIPTION:
URL:https://wildsidetn.com/event/bike-shuttle-394/
CATEGORIES:Shuttle Hours
END:VEVENT
BEGIN:VEVENT
DTSTART;TZID=America/New_York:20260413T090000
DTEND;TZID=America/New_York:20260413T183000
DTSTAMP:20260421T083244
CREATED:20251121T194557Z
LAST-MODIFIED:20251121T194557Z
UID:10001836-1776070800-1776105000@wildsidetn.com
SUMMARY:Bike Shuttle
DESCRIPTION:
URL:https://wildsidetn.com/event/bike-shuttle-395/
CATEGORIES:Shuttle Hours
END:VEVENT
BEGIN:VEVENT
DTSTART;TZID=America/New_York:20260414T090000
DTEND;TZID=America/New_York:20260414T183000
DTSTAMP:20260421T083244
CREATED:20251121T194557Z
LAST-MODIFIED:20251121T194557Z
UID:10001837-1776157200-1776191400@wildsidetn.com
SUMMARY:Bike Shuttle
DESCRIPTION:
URL:https://wildsidetn.com/event/bike-shuttle-396/
CATEGORIES:Shuttle Hours
END:VEVENT
BEGIN:VEVENT
DTSTART;TZID=America/New_York:20260415T090000
DTEND;TZID=America/New_York:20260415T183000
DTSTAMP:20260421T083244
CREATED:20251121T194756Z
LAST-MODIFIED:20251121T194756Z
UID:10001838-1776243600-1776277800@wildsidetn.com
SUMMARY:Bike Shuttle
DESCRIPTION:
URL:https://wildsidetn.com/event/bike-shuttle-397/
CATEGORIES:Shuttle Hours
END:VEVENT
END:VCALENDAR